BEGIN:VCALENDAR
VERSION:2.0
PRODID:-//YogaUP - ECPv6.15.16//NONSGML v1.0//EN
CALSCALE:GREGORIAN
METHOD:PUBLISH
X-ORIGINAL-URL:https://yogaup.com.hk
X-WR-CALDESC:Events for YogaUP
REFRESH-INTERVAL;VALUE=DURATION:PT1H
X-Robots-Tag:noindex
X-PUBLISHED-TTL:PT1H
BEGIN:VTIMEZONE
TZID:Asia/Hong_Kong
BEGIN:STANDARD
TZOFFSETFROM:+0800
TZOFFSETTO:+0800
TZNAME:HKT
DTSTART:20200101T000000
END:STANDARD
END:VTIMEZONE
BEGIN:VEVENT
DTSTART;TZID=Asia/Hong_Kong:20210911T113000
DTEND;TZID=Asia/Hong_Kong:20210911T133000
DTSTAMP:20260422T020446
CREATED:20220724T012249Z
LAST-MODIFIED:20220724T013402Z
UID:2507-1631359800-1631367000@yogaup.com.hk
SUMMARY:Chat on the Mat
DESCRIPTION:In this pilot Chat on a Mat dialogue session participants will receive a Dialogue Puzzle and learn how to engage people to talk about important topics\, in a way\, time\, and space to achieve the best possible outcome. Peter will share examples and participants will get to know each other\, share their experience\, ask questions\, and become resources for each other. \nIf this pilot class proves popular\, further classes will be scheduled to go deeper into the skills and methods needed to resolve conflicts\, negotiate optimal outcomes\, and realize opportunities at work\, at home\, and at large in society. You don’t need to go to business school or work for a multinational to learn these best practices\, now you can Chat on a Mat. The solution is in the dialogue.
URL:https://yogaup.com.hk/event/chat-on-the-mat/
CATEGORIES:Chat on the Mat
ATTACH;FMTTYPE=image/jpeg:https://yogaup.com.hk/wp-content/uploads/2022/07/IMG_0006.jpg
END:VEVENT
END:VCALENDAR