BEGIN:VCALENDAR
VERSION:2.0
PRODID:-//YogaUP - ECPv6.15.16//NONSGML v1.0//EN
CALSCALE:GREGORIAN
METHOD:PUBLISH
X-WR-CALNAME:YogaUP
X-ORIGINAL-URL:https://yogaup.com.hk
X-WR-CALDESC:Events for YogaUP
REFRESH-INTERVAL;VALUE=DURATION:PT1H
X-Robots-Tag:noindex
X-PUBLISHED-TTL:PT1H
BEGIN:VTIMEZONE
TZID:Asia/Hong_Kong
BEGIN:STANDARD
TZOFFSETFROM:+0800
TZOFFSETTO:+0800
TZNAME:HKT
DTSTART:20210101T000000
END:STANDARD
END:VTIMEZONE
BEGIN:VEVENT
DTSTART;VALUE=DATE:20220828
DTEND;VALUE=DATE:20220919
DTSTAMP:20260422T041202
CREATED:20220802T192913Z
LAST-MODIFIED:20220802T193551Z
UID:2623-1661644800-1663545599@yogaup.com.hk
SUMMARY:10 HR CE YOGA SEQUENCING COURSE
DESCRIPTION:
URL:https://yogaup.com.hk/event/10-hr-ce-yoga-sequencing-course/
CATEGORIES:10 HR CE YOGA SEQUENCING COURSE
ATTACH;FMTTYPE=image/jpeg:https://yogaup.com.hk/wp-content/uploads/2022/08/IMG-20220721-WA0002.jpg
END:VEVENT
END:VCALENDAR